BEGIN:VCALENDAR
VERSION:2.0
X-WR-TIMEZONE:Europe/Paris
PRODID:-//Audencia//NONSGML v1.0//EN
CALSCALE:GREGORIAN
BEGIN:VEVENT
SUMMARY:Soirée ApéroPitchs du Club Entrepreneurs - 1 An Déjà !  [Paris]
DTSTART:20231109T191500
DTEND:20231109T230000
UID:360
DTSTAMP:20260425T223838
LOCATION:Campus Audencia Paris Passage Colisée 93400 Saint-Ouen-sur-Seine
DESCRIPTION: \nRéservée aux Entrepreneurs et Investisseurs\n\n\n\nChère communauté entrepreneuriale, chers amis,\n\nLe Club Entrepreneurs a le plaisir de vous convier pour la GRANDE SOIRÉE DE L'ANNÉE DE NOTRE COMMUNAUTÉ !\n\nIl y a un an quasiment jour pour jour, nous vous annoncions la relance événementielle du Club Entrepreneurs Audencia Alumni.\nUn an plus tard, pour clôturer cette année 2023 en beauté, le Club vous invite à une soirée riche de rencontres, de découvertes et de partage d'expériences.\n \n\nJeudi 9 novembre\nsur le nouveau campus parisien d'Audencia\n \nCette soirée sera l'occasion idéale pour renouer avec d'anciens camarades, échanger des idées inspirantes et développer votre réseau professionnel avec des personnes partageant votre goût pour l’entrepreneuriat.\n \n\nLES ENTREPRENEURS DE LA TABLE-RONDE\n\n\n\nPénélope Boeuf (GE 07),\nFondatrice de La Toile, une agence 360 qui accompagne les marques dans leurs stratégies, leurs créations et leurs productions.\n\n\n\n\nCharles Degand (GE 12),\nCo-fondateur et Président d’Angelsquare qui accompagne et finance les meilleures startups en Seed et Série A en s’appuyant sur sa communauté de plus de 1000 d’investisseurs (Business Angels, Family Offices, Fonds d’amorçage).\n\n\n\n\nCaroline REY (GE 13),\nCo-fondatrice de 17H10, entreprise à mission, qui crée des tailleurs éthiques et responsables pour femmes indépendantes et positives.\n\n\n\n\n\nVincent Roux (GE 04),\nFondateur et CEO de (goud), un club de santé pour les dirigeants.\nCo-fondateur de Ocode, Imagination Machine, Intuiti, Fifty Truck...\n\n \n\n\nAU PROGRAMME\n\nRéseautage, autopromo, entraide, partage d’expériences... autour d'un cocktail convivial.\n \n\n\n	19h15 : Accueil ​​accompagné d’une coupe de champagne.\n\n\n\n	19h45 : Plénière et table-ronde inspirante pour être au fait de l’offre entrepreneuriale et de son actualité en se nourrissant de l'expérience d’entrepreneurs expérimentés.\n\n\n\n	21h15 : Cocktail & networking autour des produits des alumni entrepreneurs.\n	- Dégustez les bières de Natz, les épices de Munnar Epices, les spiritueux de Saka Spirits…\n	- Découvrez les alvéoles de La Ruche à vin, l’oreiller du Petit Dormeur… \n	 L'occasion unique de découvrir les projets et les réalisations de vos pairs, et peut-être même de déceler des opportunités de collaboration.\n\n\nA bientôt et n'oubliez pas d'en parler à tous les entrepreneurs Alumni autour de vous pour qu'ils viennent s'inscrire à leur tour,\nVos ambassadeurs Vincent MABIRE (EIBM 11), Stéphane FEUILLU (GE 97)\n\n\n \n
BEGIN:VALARM
ACTION:DISPLAY
TRIGGER:-PT60M
DESCRIPTION:Soirée ApéroPitchs du Club Entrepreneurs - 1 An Déjà !  [Paris]
END:VALARM
END:VEVENT
END:VCALENDAR