BEGIN:VCALENDAR
VERSION:2.0
X-WR-TIMEZONE:Europe/Paris
PRODID:-//Audencia//NONSGML v1.0//EN
CALSCALE:GREGORIAN
BEGIN:VEVENT
SUMMARY:Drink Audencia in Tech
DTSTART:20170531T193000
DTEND:20170531T220000
UID:36
DTSTAMP:20260425T205721
LOCATION:Les Champs et les vignes, paris 8 (métro Franklin D Roosevelt)
DESCRIPTION:Rendez vous pour un afterwork d'Audencia in Tech !
BEGIN:VALARM
ACTION:DISPLAY
TRIGGER:-PT60M
DESCRIPTION:Drink Audencia in Tech
END:VALARM
END:VEVENT
END:VCALENDAR