BEGIN:VCALENDAR
VERSION:2.0
X-WR-TIMEZONE:Europe/Paris
PRODID:-//Audencia//NONSGML v1.0//EN
CALSCALE:GREGORIAN
BEGIN:VEVENT
SUMMARY:COACHFERENCE™ - Le pouvoir de l'Engagement Personnel Intérieur
DTSTART:20230321T184500
DTEND:20230321T200000
UID:356
DTSTAMP:20260425T205734
LOCATION:La Maison Internationale des Associations Rue des Savoises 15 1205 Genève Suisse
DESCRIPTION:Venez découvrir un concept innovant qui allie l'impact du coaching à la portée d'une conférence: COACHFERENCE™\n\nVous allez (re)découvrir la notion d'Engagement Personnel Intérieur et faire l'expérience de sa puissance virtuellement sans limites.\nAttention, il s'agit d'une intense expérience interactive et individuelle.\n\nAccueil à partir de 18h30 à la Maison Internationale des Associations, salle Jacquard (Rez de chaussée).\nDébut de la Coachférence à 19h00 précises. Fin à 20h00.\nAucun retard possible après 19h. Politique "téléphone éteint" non négociable.\n\nLa Coachférence sera suivie d'un Q&A convivial pour ceux qui le souhaitent.\n\nPlaces limitées, inscription obligatoire.\nInscription solo: 15 CHF à régler sur place en arrivant.\nInscription avec un ou plusieurs accompagnants: 0 CHF par personne (l'objectif est réellement de faire découvrir le concept au plus grand nombre)\n\nPour toute question, contactez: Martin Perrier - martin@martinperriercoaching.com - +41 76 683 78 73
BEGIN:VALARM
ACTION:DISPLAY
TRIGGER:-PT60M
DESCRIPTION:COACHFERENCE™ - Le pouvoir de l'Engagement Personnel Intérieur
END:VALARM
END:VEVENT
END:VCALENDAR