BEGIN:VCALENDAR
VERSION:2.0
X-WR-TIMEZONE:Europe/Paris
PRODID:-//Audencia//NONSGML v1.0//EN
CALSCALE:GREGORIAN
BEGIN:VEVENT
SUMMARY:Soirée ApéroPitchs de Printemps du Club Entrepreneurs [Paris - France]
DTSTART:20230418T193000
DTEND:20230418T223000
UID:355
DTSTAMP:20260425T205705
LOCATION:32 Rue Beaurepaire, 75010 Paris
DESCRIPTION:Chère communauté entrepreneuriale, chers amis,\n \nLe Club Entrepreneurs Audencia Alumni a le plaisir de vous annoncer la nouvelle soirée réseau !\n \nEn ce mois d'Avril, nous sommes heureux de vous inviter à nous retrouver tous ensemble pour célébrer le Printemps, lors d’une belle soirée ApéroPitchs !\n \nPour cette nouvelle soirée, le Club vous invite à nous communiquer vos propositions de Pitchs de vos activités lors de l'événement. Nous en retiendrons 2 à 3. Si vous avez des thèmes spécifiques que vous voudriez voir mis en avant, n'hésitez pas à nous les faire remonter. \n \nAu programme : Réseautage, entraide, partage d’expériences, autour d'un cocktail de qualité…. Et bien sûr quelques pitchs !\n \nAlors :\nRévisez le vôtre.\nRéservez votre soirée le Mardi 18 Avril  - 19h30\nInscrivez-vous dès à présent\nParlez-en à tous les entrepreneurs Alumni autour de vous pour qu'ils viennent s'inscrire à leur tour !\n \nEt pour celles et ceux qui ne pourront pas se rendre à Paris, pas d’inquiétude. Le Club n’entend oublier personne et proposera à venir d’autres canaux d’échanges et rencontres disponibles pour tous.\n\nA très bientôt !\n\nVos ambassadeurs Stéphane FEUILLU, Vincent MABIRE
BEGIN:VALARM
ACTION:DISPLAY
TRIGGER:-PT60M
DESCRIPTION:Soirée ApéroPitchs de Printemps du Club Entrepreneurs [Paris - France]
END:VALARM
END:VEVENT
END:VCALENDAR