BEGIN:VCALENDAR
VERSION:2.0
X-WR-TIMEZONE:Europe/Paris
PRODID:-//Audencia//NONSGML v1.0//EN
CALSCALE:GREGORIAN
BEGIN:VEVENT
SUMMARY:Audencia Around the World in San Francisco
DTSTART:20230326T090000
DTEND:20230326T140000
UID:354
DTSTAMP:20260425T210050
LOCATION:McClellan Ranch Preserve - 22221 McClellan Rd - Cupertino
DESCRIPTION:#Audencia_Worldwide\n\nAlumni in San Francisco will be participating in the 2023 Around The World celebrations.\n\nJoin us on Sunday 26 March to celebrate Audencia Around the World!\n\nWe will be volunteering with Grassrootsecology at the McClellan Ranch Preserve in Cupertino from 9AM to 11:30AM: native plant meadow restoration, plant identification walk, weeding, educational stations and more.\n\nWe will then enjoy a lunch together to reward our efforts! At Pacific Catch, Cupertino.\nHoping to see you all there! Family is welcome!\n\nImportant detail:\n \n\nPlease register here individually\nfor the volunteering time (waiver requested) - Please now use the code WALKINWAVE to register.\n\n \n\n\n\n\nAround the World events will begin on 24 March 2023 and travel to cities on all five continents. This event is for alumni and students who are currently living and working in different cities worldwide. For its fifth edition, Audencian ambassadors around the world are being creative, inventive and resourceful in devising activities for their alumni communities. Your challenge, should you choose to accept it, is to join them!\n\nDiscover what else is happening Around the World in 2023:\n\n \n\n\n\n\nIf you can’t find an event taking place near you, drop us a line and we’ll help you set one up!
BEGIN:VALARM
ACTION:DISPLAY
TRIGGER:-PT60M
DESCRIPTION:Audencia Around the World in San Francisco
END:VALARM
END:VEVENT
END:VCALENDAR