BEGIN:VCALENDAR
VERSION:2.0
X-WR-TIMEZONE:Europe/Paris
PRODID:-//Audencia//NONSGML v1.0//EN
CALSCALE:GREGORIAN
BEGIN:VEVENT
SUMMARY:Afterwork Alumni Nantes
DTSTART:20230404T183000
DTEND:20230404T220000
UID:353
DTSTAMP:20260425T205823
LOCATION:SIDRAS 34 mail des chantiers  44200 NANTES
DESCRIPTION:Rendez-vous pour un moment convivial d'échange avec les diplômés nantais pour découvrir un nouveau lieu : une cave à cidres qui a ouvert récemment sur l'Ile de Nantes, proche du boulevard la Prairie aux Ducs.\n\nSi vous venez seul, un ice breaker sera prévu pour vous permettre de faire connaissance.\n\nVos ambassadrices (Sandrine Haudebert, Claire Marc, Hélène Ferrari, Marjorie Boudaud, Alexandra Fleury) 
BEGIN:VALARM
ACTION:DISPLAY
TRIGGER:-PT60M
DESCRIPTION:Afterwork Alumni Nantes
END:VALARM
END:VEVENT
END:VCALENDAR