BEGIN:VCALENDAR
VERSION:2.0
X-WR-TIMEZONE:Europe/Paris
PRODID:-//Audencia//NONSGML v1.0//EN
CALSCALE:GREGORIAN
BEGIN:VEVENT
SUMMARY:Café Rencontre Virtuel - Alumni SoCal
DTSTART:20230316T120000
DTEND:20230316T124500
UID:352
DTSTAMP:20260425T223705
LOCATION:
DESCRIPTION:Pour ceux d'entre vous qui ne pourront se joindre à nous à l'occasion d'Audencia Around the World le 25 mars prochain ou à l'inverse qui souhaiteraient faire connaissance en amont de l'évènement, nous vous proposons un café rencontre virtuel le jeudi 16 mars à 12h00 !\n\n>> Connectez vous ici le jour J\n\nQue vous soyez Alumni ou Etudiant en échange dans le Sud de la Californie (Los Angeles > San Diego), cet évènement est pour vous !\n\nNous avons hâte de vous rencontrer :)\n\nAurégan, Guillaume, Lucile, Manuelle & Marine
BEGIN:VALARM
ACTION:DISPLAY
TRIGGER:-PT60M
DESCRIPTION:Café Rencontre Virtuel - Alumni SoCal
END:VALARM
END:VEVENT
END:VCALENDAR