BEGIN:VCALENDAR
VERSION:2.0
X-WR-TIMEZONE:Europe/Paris
PRODID:-//Audencia//NONSGML v1.0//EN
CALSCALE:GREGORIAN
BEGIN:VEVENT
SUMMARY:Afterwork Audencia Transitions Nantes
DTSTART:20230321T190000
DTEND:20230321T230000
UID:350
DTSTAMP:20260425T210048
LOCATION:Magmaa Food Hall, 15 Rue La Noue Bras de Fer.
DESCRIPTION:Bonjour à toutes et à tous,\n \n\nNous vous proposons de nous retrouver le mardi 21 mars dès 19 heures au Magmaa Food Hall (15 Rue La Noue Bras de Fer. En bus : C5 Gare de l’État ; En tram : L1 Médiathèque) pour fêter l’arrivée du printemps ensemble !\n \n\nCe sera une bonne occasion pour prendre des nouvelles, faire connaissance pour les nouveaux/nouvelles, de partager ce qui nous fait vibrer et ce que l’on peut faire ensemble au sein du club !\n \n\nNous aurons besoin d’avoir une idée du nombre approximatif de participants. Donc n’hésitez pas à utiliser le lien d’inscription si vous êtes intéressé(e) :)\n \n\nOn se permettra de ne pas maintenir l'événement si l’on est moins de 4 participants.\n \n\n Au plaisir de vous rencontrer !\n \n\n A très vite
BEGIN:VALARM
ACTION:DISPLAY
TRIGGER:-PT60M
DESCRIPTION:Afterwork Audencia Transitions Nantes
END:VALARM
END:VEVENT
END:VCALENDAR