BEGIN:VCALENDAR
VERSION:2.0
X-WR-TIMEZONE:Europe/Paris
PRODID:-//Audencia//NONSGML v1.0//EN
CALSCALE:GREGORIAN
BEGIN:VEVENT
SUMMARY:Shanghai Chapter Kick-off Event
DTSTART:20170526T190000
DTEND:20170526T220000
UID:35
DTSTAMP:20260425T223812
LOCATION:Le Cafe des Stagiaires, 158 Julu Lu, Datong Mille, 1/F, near Ruijin Yilu， Shanghai ， China 巨鹿路158号大同坊一楼，近瑞金一路， 上海
DESCRIPTION:Welcome everyone !\n\nSH chapter is still a young community, let's grow it bigger together!\n\nWe are having our first reunion soon, which is really exciting...\n\nThis Friday May 26th, 19:00, Come & meet everybody at Le Cafe des Stagiaires.\n\nLook forward to meeting you all !   Thank you very much.\n 
BEGIN:VALARM
ACTION:DISPLAY
TRIGGER:-PT60M
DESCRIPTION:Shanghai Chapter Kick-off Event
END:VALARM
END:VEVENT
END:VCALENDAR