BEGIN:VCALENDAR
VERSION:2.0
X-WR-TIMEZONE:Europe/Paris
PRODID:-//Audencia//NONSGML v1.0//EN
CALSCALE:GREGORIAN
BEGIN:VEVENT
SUMMARY:"INTERCULTURAL STEM! BUT HOW?" presented by Vincent Merk - Intercultural trainer & consultant and Audencia Associate Staff
DTSTART:20230214T180000
DTEND:20230214T210000
UID:348
DTSTAMP:20260425T223838
LOCATION:TU Eindhoven Campus - Auditorium Building - Blauwe Zaal Auditorium 5612, 5612 AZ Eindhoven, Pays-Bas
DESCRIPTION:Vincent Merk has just retired from TU/e after working for 38 years in various positions (senior lecturer in intercultural management, professional skills trainer, teacher of technical French, international relations officer, and Community advisor).\n\nHe also works as an independent trainer and consultant in intercultural management, diversity & inclusion, and professional mobility.\n\nHe regularly presents at academic conferences and has authored many articles on these topics and co-authored book chapters and two books. He co-designed the Toolbox Internationalization within the 4 TU’s cooperation scheme.\n\nLearn more about our upcoming event 'Intercultural STEM! But how?' by checking out the link here: Intercultural STEM! But how? (beyondeindhoven.nl)\n\nGet your ticket via the link: Intercultural STEM! But how?... - Celebration of Women in Science 2023 (pretix.eu)\n\n#diversity #community #inclusion #womenempowerment #intercultural #eindhoven
BEGIN:VALARM
ACTION:DISPLAY
TRIGGER:-PT60M
DESCRIPTION:"INTERCULTURAL STEM! BUT HOW?" presented by Vincent Merk - Intercultural trainer & consultant and Audencia Associate Staff
END:VALARM
END:VEVENT
END:VCALENDAR