BEGIN:VCALENDAR
VERSION:2.0
X-WR-TIMEZONE:Europe/Paris
PRODID:-//Audencia//NONSGML v1.0//EN
CALSCALE:GREGORIAN
BEGIN:VEVENT
SUMMARY:Verre communauté Secteur public
DTSTART:20230321T190000
DTEND:20230322T000000
UID:347
DTSTAMP:20260425T205720
LOCATION:Le Social Bar  25 rue Villiot, Paris 75012
DESCRIPTION:Bonjour, \n\nVous travaillez dans le secteur public ? Rencontrons-nous autour d'un verre pour échanger et mieux nous connaître !\n\nRendez-vous le 21.03.2023 à 19h au Social bar, 25 rue Villiot Paris 12.\n\nInscrivez-vous dès maintenant, pour réserver au plus juste le nombre de tables. \n\nA très vite, \nMaxim \n 
BEGIN:VALARM
ACTION:DISPLAY
TRIGGER:-PT60M
DESCRIPTION:Verre communauté Secteur public
END:VALARM
END:VEVENT
END:VCALENDAR