BEGIN:VCALENDAR
VERSION:2.0
X-WR-TIMEZONE:Europe/Paris
PRODID:-//Audencia//NONSGML v1.0//EN
CALSCALE:GREGORIAN
BEGIN:VEVENT
SUMMARY:Dîner Réseau Amsterdam - Audencia+Neoma
DTSTART:20230215T190000
DTEND:20230215T220000
UID:346
DTSTAMP:20260425T205814
LOCATION:Kanteen 25 Kattenburgerstraat 5, 1018 JA Amsterdam
DESCRIPTION:Premier dîner réseau 2023 / First network dinner 2023\nà la Kanteen 25, Kattenburgerstraat 5, 1018 JA Amsterdam\n\n \n\nDate\n\nMercredi 15 février à 19h00\nWednesday, February 15th – from 19:00 onwards\n\n \n\nProgramme\n\nPour ce premier rendez-vous de l’année, Audencia Alumni et Neoma Alumni ont choisi de s’associer pour élargir notre réseau et de faire de nouvelles rencontres. \n\nPour ceux d'entre nous habitant dans le nord des Pays-Bas, nous vous proposons de nous rencontrer autour d’un dîner, près du musée NEMO d'Amsterdam, le mercredi 15 février à partir de 19h00.\n\nLa bonne humeur, la convivialité et le networking seront au rendez-vous. \n\nOn compte sur vous ! Venez nombreux !\n\n*****************************\n\nFor this first meeting of the year, Audencia Alumni and Neoma Alumni have decided to join forces to give us the opportunity to widen our network and meet new people. \n\nFor those of us living in Noord-Holland, we have planned to meet for a networking dinner in Amsterdam (not too far from the NEMO Museum) on Wednesday, February 15th, from 19:00 onwards.  \n\nWe promise to offer you an enjoyable time (as usual) and lovely encounters.\n\n \n\nAdresse\n\nRestaurant "Kanteen 25"\n\nKattenburgerstraat 5, Building 025, 1018 JA Amsterdam\n\n(you can walk from Centraal Station, take the Commandantsbrug footbridge after Klimmuur Centraal)\n\nPS: for those of you living in Zuid-Holland, we have organized an event in Den Haag on the same day!
BEGIN:VALARM
ACTION:DISPLAY
TRIGGER:-PT60M
DESCRIPTION:Dîner Réseau Amsterdam - Audencia+Neoma
END:VALARM
END:VEVENT
END:VCALENDAR