BEGIN:VCALENDAR
VERSION:2.0
X-WR-TIMEZONE:Europe/Paris
PRODID:-//Audencia//NONSGML v1.0//EN
CALSCALE:GREGORIAN
BEGIN:VEVENT
SUMMARY:Dîner Réseau La Haye - Audencia+Neoma
DTSTART:20230215T190000
DTEND:20230215T220000
UID:345
DTSTAMP:20260425T205814
LOCATION:Restaurant La Lanterna Laan van Meerdervoort 40B, 2517 AL Den Haag
DESCRIPTION:Premier dîner réseau 2023 / First network dinner 2023\nà La Lanterna de La Haye\n\n \n\nDate\n\nMercredi 15 février à 19h00\nWednesday, February 15th – from 19:00 onwards\n\n \n\nProgramme\n\nPour ce premier rendez-vous de l’année, Audencia Alumni et Neoma Alumni ont choisi de s’associer pour élargir notre réseau et de faire de nouvelles rencontres. \n\nPour ceux d'entre nous habitant dans le sud des Pays-Bas, nous vous proposons de nous rencontrer autour d’un dîner, près du Vredespaleis de La Haye, le mercredi 15 février à partir de 19h00.\n\nLa bonne humeur, la convivialité et le networking seront au rendez-vous. \n\nOn compte sur vous ! Venez nombreux !\n\n*****************************\n\nFor this first meeting of the year, Audencia Alumni and Neoma Alumni have decided to join forces to give us the opportunity to widen our network and meet new people. \n\nFor those of us living in Zuid-Holland, we have planned to meet for a networking dinner in The Hague (not too far from Vredespaleis) on Wednesday, February 15th, from 19:00 onwards.  \n\nWe promise to offer you a good time (as usual) and lovely encounters.\n\n \n\nAdresse / Location\n\nRestaurant ‘La Lanterna’\n\nLaan van Meerdervoort 40B, 2517 AL Den Haag\n\n(bus 24, bus 28 ou tram 1: arrêt ‘Vredespaleis’)
BEGIN:VALARM
ACTION:DISPLAY
TRIGGER:-PT60M
DESCRIPTION:Dîner Réseau La Haye - Audencia+Neoma
END:VALARM
END:VEVENT
END:VCALENDAR