BEGIN:VCALENDAR
VERSION:2.0
X-WR-TIMEZONE:Europe/Paris
PRODID:-//Audencia//NONSGML v1.0//EN
CALSCALE:GREGORIAN
BEGIN:VEVENT
SUMMARY:Afterwork Alumni Barcelona
DTSTART:20230118T190000
DTEND:20230118T220000
UID:342
DTSTAMP:20260425T223707
LOCATION:Pokawaï, Carrer del Bruc 80, Barcelona, Spain
DESCRIPTION:¡Reserve la fecha! Reunámonos el miércoles 18 de enero en Pokawaï para tomar unas copas y compartir las grandes cosas que conseguiremos en 2023 :-)
BEGIN:VALARM
ACTION:DISPLAY
TRIGGER:-PT60M
DESCRIPTION:Afterwork Alumni Barcelona
END:VALARM
END:VEVENT
END:VCALENDAR