BEGIN:VCALENDAR
VERSION:2.0
X-WR-TIMEZONE:Europe/Paris
PRODID:-//Audencia//NONSGML v1.0//EN
CALSCALE:GREGORIAN
BEGIN:VEVENT
SUMMARY:Geneva Afterwork - le premier de 2023 !
DTSTART:20230208T190000
DTEND:20230208T230000
UID:341
DTSTAMP:20260425T205819
LOCATION:CAROUGE - QU'IMPORTE
DESCRIPTION:Pour ce premier Afterwork de 2023 nous vous donnons rendez-vous au Bar A Manger : Qu’importe situe à Carouge.\n\nInscriptions conseillées pour estimer le nombre de personnes pour la réservation - une question? Contactez-moi, Mélina au (+33) 6 66 83 03 71\n \n 
BEGIN:VALARM
ACTION:DISPLAY
TRIGGER:-PT60M
DESCRIPTION:Geneva Afterwork - le premier de 2023 !
END:VALARM
END:VEVENT
END:VCALENDAR