BEGIN:VCALENDAR
VERSION:2.0
X-WR-TIMEZONE:Europe/Paris
PRODID:-//Audencia//NONSGML v1.0//EN
CALSCALE:GREGORIAN
BEGIN:VEVENT
SUMMARY:Nage Nocturne aux Bains des Paquis
DTSTART:20230315T190000
DTEND:20230315T220000
UID:340
DTSTAMP:20260425T205821
LOCATION:Bains des Paquis a Geneve
DESCRIPTION:Apres le succès de l’Edition 2022, nous vous donnons rendez-vous pour une nage nocturne – la dernière de cette saison, aux Bains des Pâquis à partir de 19h pour se lancer tous ensemble dans ce défi en eau froide. Nous terminerons cette expérience par la traditionnelle fondue, reservation a mon nom pour une table de 15 PAX a partir de 20h : attention prévoyez bien du cash (CB non acceptée)\n\nInformations:\nhttps://www.bains-des-paquis.ch/agenda/nage-de-nuit-1\n\nInscriptions obligatoires pour estimer le nombre de personnes pour la fondue - une question? Contactez moi Melina au (+33) 6 66 83 03 71\n 
BEGIN:VALARM
ACTION:DISPLAY
TRIGGER:-PT60M
DESCRIPTION:Nage Nocturne aux Bains des Paquis
END:VALARM
END:VEVENT
END:VCALENDAR