BEGIN:VCALENDAR
VERSION:2.0
X-WR-TIMEZONE:Europe/Paris
PRODID:-//Audencia//NONSGML v1.0//EN
CALSCALE:GREGORIAN
BEGIN:VEVENT
SUMMARY:Concours 2017 Paris GE
DTSTART:20170613T174500
DTEND:20170613T190000
UID:34
DTSTAMP:20260425T205717
LOCATION:Campus Paris (rue Falguière)
DESCRIPTION:Hello à tous !\nVenez participer aux Concours GE 2017 !\nPour la première fois, les concours auront lieu à Paris (le campus de Nantes étant en travaux).\nLe but : donner envie aux étudiants de prépa de venir rejoindre l'école en leur parlant de nos expériences pros et étudiantes.\n\nDates : du 13 au 30 juin, chaque jour de 17h45 à 19h.\nUnique contrainte, il faut que vous soyez en poste.\n\nRemplissez le doodle si vous êtes intéressés ! >>> https://beta.doodle.com/poll/ncyn32ng4ns35tn9
BEGIN:VALARM
ACTION:DISPLAY
TRIGGER:-PT60M
DESCRIPTION:Concours 2017 Paris GE
END:VALARM
END:VEVENT
END:VCALENDAR