BEGIN:VCALENDAR
VERSION:2.0
X-WR-TIMEZONE:Europe/Paris
PRODID:-//Audencia//NONSGML v1.0//EN
CALSCALE:GREGORIAN
BEGIN:VEVENT
SUMMARY:Chapter Lyon - Afterwork
DTSTART:20230126T193000
DTEND:20230126T223000
UID:338
DTSTAMP:20260425T205822
LOCATION:FFA – Fédération Française de l’apéritif 35, quai Saint Antoine Lyon
DESCRIPTION: \n\nJeudi 26 janvier à 19h30\n\n\nAmis lyonnais\nVenez trinquer à la nouvelle année\nVous replonger\nDans les souvenirs de vos étudiantes années\nEt élargir votre réseau : une bonne résolution de cette année ?\n 
BEGIN:VALARM
ACTION:DISPLAY
TRIGGER:-PT60M
DESCRIPTION:Chapter Lyon - Afterwork
END:VALARM
END:VEVENT
END:VCALENDAR