BEGIN:VCALENDAR
VERSION:2.0
X-WR-TIMEZONE:Europe/Paris
PRODID:-//Audencia//NONSGML v1.0//EN
CALSCALE:GREGORIAN
BEGIN:VEVENT
SUMMARY:AFTERWORK INTER ALUMNI ANGERS LE MANS SAUMUR
DTSTART:20221213T183000
DTEND:20221213T213000
UID:337
DTSTAMP:20260425T223838
LOCATION:angers
DESCRIPTION:Bonjour à tous,\n\nNous avons coeur de développer les rencontres des HEC des 4 coins des Pays de la Loire. Pour maintenir ces rencontres et élargir le nombre de participants nous ouvrons ces rendez-vous à l'InterAlumni.\n\nNous invitons donc à ces afterworks les alumni des grandes écoles présentes en région Pays de la Loire : CentraleSupelec, ESSEC, ESCP, Edhec, Sciences Po, ESTP ont déjà répondu présent\n\nAussi nous vous invitons à prendre un verre lors d'un Afterwork HEC le mardi 13 Décembre 2022 à partir de 18H30 dans 3 villes de notre région :\n\n\n	ANGERS : L’arrière-train 3, rue de Frémur\n	LE MANS : l’Office - Place de la République\n	SAUMUR : Bistrot de la Place - 16 Place St-Pierre\n\n\n \n\nTous les HEC Pays de la Loire sont invités et vous pouvez venir accompagnés de votre conjoint(e). Chacun règlera directement ce qu'il consomme sur place.\n\nNous vous invitons à vous inscrire afin d'anticiper le nombre de participants pour chaque destination. Vous rencontrerez un représentant du bureau dans chaque ville. Nous vous communiquerons leur numéro de téléphone après inscription pour vous aider si besoin le jour J.\n\nC'est le début de nouvelles aventures ! Vous pourrez ensuite vous organiser localement pour d'autres rencontres, alors ne manquez pas ce rendez-vous.\nPour vous inscrire, merci de contacter Laurent delporte au 06 63 43 81 59 - info@laurentdelporte.com\n\nVenez nombreux
BEGIN:VALARM
ACTION:DISPLAY
TRIGGER:-PT60M
DESCRIPTION:AFTERWORK INTER ALUMNI ANGERS LE MANS SAUMUR
END:VALARM
END:VEVENT
END:VCALENDAR