BEGIN:VCALENDAR
VERSION:2.0
X-WR-TIMEZONE:Europe/Paris
PRODID:-//Audencia//NONSGML v1.0//EN
CALSCALE:GREGORIAN
BEGIN:VEVENT
SUMMARY:Petit-déjeuner du Chapter - visite d'entreprise Valae
DTSTART:20230127T083000
DTEND:20230127T100000
UID:336
DTSTAMP:20260425T205819
LOCATION:38-44 rue edgard brandt le mans
DESCRIPTION:Bonjour à tous,\n\nEmilie Beauger-Hayère nous invite à découvrir les nouveaux locaux de Valae le 27 janvier 2023. Elle nous parlera de l'activité de l'entreprise et nous présentera un cas pratique de création de produits pour un client dans l'agroalimentaire.\n\nNous en profiterons pour partager un moment convivial en ce début de nouvelle année.\n\nGuillaume Lavernhe nous en dira plus sur ses échanges avec les Alumni HEC.\nQuant à moi (mais peut-être d'autres y seront), je vous raconterai la soirée Homecoming du 10 décembre à Audencia.\n\nAu plaisir de partager ce moment avec vous.\n\nAurélie
BEGIN:VALARM
ACTION:DISPLAY
TRIGGER:-PT60M
DESCRIPTION:Petit-déjeuner du Chapter - visite d'entreprise Valae
END:VALARM
END:VEVENT
END:VCALENDAR