BEGIN:VCALENDAR
VERSION:2.0
X-WR-TIMEZONE:Europe/Paris
PRODID:-//Audencia//NONSGML v1.0//EN
CALSCALE:GREGORIAN
BEGIN:VEVENT
SUMMARY:Afterwork Interalumni avec les membres d'HEC
DTSTART:20221213T183000
DTEND:20221213T210000
UID:335
DTSTAMP:20260425T205703
LOCATION:Racines, La Visitation, Le Mans
DESCRIPTION:Bonjour à tous,\n\nNous sommes conviés à rencontrer Les Alumni d'autres écoles dans le cadre d'une groupe interalumni. Les HEC organisent un afterwork le 13 décembre à 18h30. Vous y êtes tous conviés ! \n\nCe sera au café Racines à la Visitation au Mans. C'est une rencontre très informelle, autour d'un verre.\n\nNotre contact HEC au Mans s'appelle Marie Hochet.\n\nVous pouvez vous inscrire sur la plate-forme HEC directement, même sans faire partie de leur réseau.\nAfterwork InterAlumni : ANGERS, LE MANS et SAUMUR | HEC Alumni\n\nMerci de nous dire si vous y êtes allés et de débriefier rapidement le reste du groupe.\n\nAurélie\n 
BEGIN:VALARM
ACTION:DISPLAY
TRIGGER:-PT60M
DESCRIPTION:Afterwork Interalumni avec les membres d'HEC
END:VALARM
END:VEVENT
END:VCALENDAR