BEGIN:VCALENDAR
VERSION:2.0
X-WR-TIMEZONE:Europe/Paris
PRODID:-//Audencia//NONSGML v1.0//EN
CALSCALE:GREGORIAN
BEGIN:VEVENT
SUMMARY:Afterwork Audencia Transitions - Nantes
DTSTART:20221013T193000
DTEND:20221013T230000
UID:331
DTSTAMP:20260425T225021
LOCATION:L'Alsacien, 15 allée Commandant Charcot, Nantes
DESCRIPTION:Bonjour à toutes et à tous,\n \n\nNous revenons avec un nouvel évènement à Nantes. Nous vous proposons de nous retrouver au restaurant-bar l’Alsacien pour passer une soirée ensemble autour de bonnes tartes flambées. Ce sera une bonne occasion de faire connaissance pour les nouveaux/nouvelles, de partager ce qui nous fait vibrer et ce que l’on peut faire ensemble au sein du club !\n \n\nAfin de réserver le lieu de rencontre, nous aurons besoin d’avoir une idée du nombre approximatif de participants. Donc n’hésitez pas à utiliser le lien d’inscription si vous êtes intéressé(e) ☺ On se permettra de ne pas maintenir l’évènement si l’on est moins de 4 participants.\n \n\nAu plaisir de vous rencontrer !\n \n\nA très vite
BEGIN:VALARM
ACTION:DISPLAY
TRIGGER:-PT60M
DESCRIPTION:Afterwork Audencia Transitions - Nantes
END:VALARM
END:VEVENT
END:VCALENDAR