BEGIN:VCALENDAR
VERSION:2.0
X-WR-TIMEZONE:Europe/Paris
PRODID:-//Audencia//NONSGML v1.0//EN
CALSCALE:GREGORIAN
BEGIN:VEVENT
SUMMARY:Soirée Relance des ApéroPitchs Entrepreneurs [Paris - France]
DTSTART:20221108T193000
DTEND:20221108T223000
UID:330
DTSTAMP:20260425T205844
LOCATION:Chez Octave 32, rue Beaurepaire 75010 Paris
DESCRIPTION:A VOS AGENDAS !\n \n\nMardi 8 Novembre à 19h30\nChez "Octave",\n32 Rue Beaurepaire, Paris 10ème\n\nChère communauté entrepreneuriale, chers amis,\n\nLe Club Entrepreneurs Audencia Alumni a le plaisir de vous annoncer la reprise de la dynamique des soirées réseau !\n\nPour fêter cela, nous sommes heureux de vous inviter à nous retrouver à la soirée de Relance des ApéroPitchs !\n\nAu programme : Réseautage, entraide, partage d’expériences, autour d’un buffet accompagné d’une sélection de vins et boissons de qualité …. Et bien sûr quelques pitchs !\n\nNous proposerons à 2 ou 3 entrepreneurs parmi nous de présenter leur activité et actualité.\nAlors :\nRévisez le vôtre.\nRéservez votre soirée le Mardi 8 Novembre - 19h30\nInscrivez-vous dès à présent\nParlez-en à tous les entrepreneurs Alumni autour de vous pour qu'ils viennent s'inscrire à leur tour ! \n\nEt pour celles et ceux qui ne pourront pas se rendre à Paris, pas d’inquiétude. Le Club n’entend oublier personne et proposera à venir d’autres canaux d’échanges et rencontres disponibles pour tous.\n\nA très bientôt !\n\nVos ambassadeurs  Stéphane FEUILLU, Vincent MABIRE\n 
BEGIN:VALARM
ACTION:DISPLAY
TRIGGER:-PT60M
DESCRIPTION:Soirée Relance des ApéroPitchs Entrepreneurs [Paris - France]
END:VALARM
END:VEVENT
END:VCALENDAR