BEGIN:VCALENDAR
VERSION:2.0
X-WR-TIMEZONE:Europe/Paris
PRODID:-//Audencia//NONSGML v1.0//EN
CALSCALE:GREGORIAN
BEGIN:VEVENT
SUMMARY:Drink Geneva Alumni - Bateau Lavoir
DTSTART:20170601T190000
DTEND:20170601T210000
UID:33
DTSTAMP:20260425T223706
LOCATION:Le Bateau Lavoir - Promenade des Lavandières - 1204 Geneve www.bateaulavoir.ch
DESCRIPTION:Drink 2017 AUDENCIA - Genève - Bateau Lavoir - 1er juin 19h00\n\nwww.bateaulavoir.ch\n\nLes beaux jours arrivent ... !\nLe prochain drink 2017 aura lieu au Bateau Lavoir à coté de la Brasserie des Halles de l'Ille (Genève).\n19h00 - 21h00 et plus pour ceux qui voudrais diner ensuite.\n\nVenez avec vos nombreux amis !\n\n\nA bientôt\nSandrine Pierre & Rodolphe Morvan
BEGIN:VALARM
ACTION:DISPLAY
TRIGGER:-PT60M
DESCRIPTION:Drink Geneva Alumni - Bateau Lavoir
END:VALARM
END:VEVENT
END:VCALENDAR