BEGIN:VCALENDAR
VERSION:2.0
X-WR-TIMEZONE:Europe/Paris
PRODID:-//Audencia//NONSGML v1.0//EN
CALSCALE:GREGORIAN
BEGIN:VEVENT
SUMMARY:Afterwork Audencia Alumni Barcelona
DTSTART:20221027T190000
DTEND:20221027T220000
UID:329
DTSTAMP:20260425T205839
LOCATION:Snooker, C/ de Roger de Llúria, 42, 08009 Barcelona, Spain
DESCRIPTION:Save the date! Nos reuniremos el jueves 27 de octubre para tomar unas copas y jugar al snooker !\n\nSnooker, C/ de Roger de Llúria, 42, 08009 Barcelona, Spain\n\nHasta pronto.\n\nTristan & Louis\n 
BEGIN:VALARM
ACTION:DISPLAY
TRIGGER:-PT60M
DESCRIPTION:Afterwork Audencia Alumni Barcelona
END:VALARM
END:VEVENT
END:VCALENDAR