BEGIN:VCALENDAR
VERSION:2.0
X-WR-TIMEZONE:Europe/Paris
PRODID:-//Audencia//NONSGML v1.0//EN
CALSCALE:GREGORIAN
BEGIN:VEVENT
SUMMARY:Chapter Lyon - Rentrée 2022 - Dégustation de vins et convivialité
DTSTART:20221013T190000
DTEND:20221013T220000
UID:327
DTSTAMP:20260425T205847
LOCATION:Guyot Vins, 32 quai Saint Antoine, Lyon 2
DESCRIPTION:Bonjour,\n\nQue le temps passe vite ! Le Covid derrière nous, on en profite pour relancer la dynamique du Chapter Lyon. \n\nAvec la nouvelle team d'ambassadeurs, Julie Guény (GE 01), Sylvain Chemtob (GE 00), Kévin Chevalier (MOS 07) et Raphaël Pangaud (GE 06), nous souhaitons vous convier à un apéritif dinatoire autour de la dégustation de vins blancs de notre région.\n\nQuoi de mieux que trinquer pour relancer notre Chapter ?\n \n\nA VOS AGENDAS...\nC'EST LE 13 OCTOBRE, ON VOUS ATTEND NOMBREUX !\n\n\nPour des raisons d'organisation, nous devons confirmer 3 jours avant le nombre de participants, on compte sur vous !\n\nC'est chez Guyot Vins, 32 quai Saint Antoine, Lyon 2.\nTarif : 20€ à régler sur place.\n \n\n
BEGIN:VALARM
ACTION:DISPLAY
TRIGGER:-PT60M
DESCRIPTION:Chapter Lyon - Rentrée 2022 - Dégustation de vins et convivialité
END:VALARM
END:VEVENT
END:VCALENDAR