BEGIN:VCALENDAR
VERSION:2.0
X-WR-TIMEZONE:Europe/Paris
PRODID:-//Audencia//NONSGML v1.0//EN
CALSCALE:GREGORIAN
BEGIN:VEVENT
SUMMARY:Petit-déjeuner d'automne | les expériences entrepreneuriales/intrapreneuriales
DTSTART:20221021T083000
DTEND:20221021T100000
UID:326
DTSTAMP:20260425T205819
LOCATION:Au siège du Groupe Oui Care boulevard Marie et Alexandre Oyon Le Mans
DESCRIPTION:Rencontres d'automne du Chapter Audencia Le Mans\n\n\nLe prochain petit-déjeuner du Chapter Le Mans aura lieu le\n 21 octobre 2022\nDe 8h30 à 10h\nAu siège du Groupe Oui Care\nboulevard Marie et Alexandre Oyon\nLe Mans\n\n\nDurant cette rencontre, nous parlerons de projets entrepreneuriaux/intrapreneuriaux. Constance Wiblé, directrice de la communication Oui Care, nous expliquera comment elle a créé la marque Autonomia au sein de Oui Care.\nSon témoignage sera suivi d’un temps d’échange durant lequel chacun pourra partager sa propre expérience.\n \nAu plaisir de vous y retrouver.\n \nAurélie Pécaud et Constance Wiblé, ambassadrices du Chapter Audencia Alumni Le Mans\n \n 
BEGIN:VALARM
ACTION:DISPLAY
TRIGGER:-PT60M
DESCRIPTION:Petit-déjeuner d'automne | les expériences entrepreneuriales/intrapreneuriales
END:VALARM
END:VEVENT
END:VCALENDAR