BEGIN:VCALENDAR
VERSION:2.0
X-WR-TIMEZONE:Europe/Paris
PRODID:-//Audencia//NONSGML v1.0//EN
CALSCALE:GREGORIAN
BEGIN:VEVENT
SUMMARY:Afterwork Audencia Alumni Barcelona
DTSTART:20220921T190000
DTEND:20220921T210000
UID:325
DTSTAMP:20260425T205948
LOCATION:Pokawai, Carrer del Bruc 80
DESCRIPTION:Quedemos para tomar unas copas...
BEGIN:VALARM
ACTION:DISPLAY
TRIGGER:-PT60M
DESCRIPTION:Afterwork Audencia Alumni Barcelona
END:VALARM
END:VEVENT
END:VCALENDAR