BEGIN:VCALENDAR
VERSION:2.0
X-WR-TIMEZONE:Europe/Paris
PRODID:-//Audencia//NONSGML v1.0//EN
CALSCALE:GREGORIAN
BEGIN:VEVENT
SUMMARY:"Apéro de rentrée", Amsterdam
DTSTART:20220914T183000
DTEND:20220914T220000
UID:324
DTSTAMP:20260425T205819
LOCATION:Karavaan  Kwakersplein 2, 1053 TZ Amsterdam
DESCRIPTION:Hello all!\nSave the date! Next Audencia Alumni meet-up will take place on Wednesday the 14th of September starting at 18:30.\nCome have a drink and mingle with your fellow Audencia Alumni in Karavaan (Kwakersplein 2, 1053 TZ Amsterdam).\nCheers!
BEGIN:VALARM
ACTION:DISPLAY
TRIGGER:-PT60M
DESCRIPTION:"Apéro de rentrée", Amsterdam
END:VALARM
END:VEVENT
END:VCALENDAR