BEGIN:VCALENDAR
VERSION:2.0
X-WR-TIMEZONE:Europe/Paris
PRODID:-//Audencia//NONSGML v1.0//EN
CALSCALE:GREGORIAN
BEGIN:VEVENT
SUMMARY:Afterwork Retrouvailles
DTSTART:20221019T183000
DTEND:20221019T223000
UID:321
DTSTAMP:20260425T223651
LOCATION:Les funambules Nantes 83 bd de la prairie au duc, 44200 Nantes
DESCRIPTION: Mercredi 19 Octobre à 18h30 - Le retour des afterworks alumni à NANTES \n\nNous vous proposons de nous réunir aux Funambules, pour apprendre à connaître ou prendre des nouvelles des membres du réseau Alumni nantais, autour d'un verre, de tapas et dans une ambiance conviviale. \n\nLe réseau vous offre le premier verre ! \n\nAu plaisir de vous revoir pour vous présenter les évènements qui auront lieu d'ici la fin de l'année. Pour être informés de toutes les actualités du Chapter Nantes, rejoignez le groupe Linkedin du réseau. \n\nA bientôt,\nVos ambassadrices  : Claire Marc, Hélène Ferrari, Marjorie Boudaud, Alexandra Fleury
BEGIN:VALARM
ACTION:DISPLAY
TRIGGER:-PT60M
DESCRIPTION:Afterwork Retrouvailles
END:VALARM
END:VEVENT
END:VCALENDAR