BEGIN:VCALENDAR
VERSION:2.0
X-WR-TIMEZONE:Europe/Paris
PRODID:-//Audencia//NONSGML v1.0//EN
CALSCALE:GREGORIAN
BEGIN:VEVENT
SUMMARY:AFTERWORK / Drinks de rentrée au Musée d'Art et d'Histoire de Genève
DTSTART:20221006T183000
DTEND:20221006T220000
UID:320
DTSTAMP:20260425T205704
LOCATION:Rue Charles-Galland 2  1206 Genève
DESCRIPTION:Bonjour à tous !! J'espère que vous allez bien ☀️ Le soleil fait son grand retour pour notre afterwork de jeudi !\n Rendez vous au MAH - Musée Art et Histoire de Genève dès 18h30. Comme il s'agit d'un afterwork dans un musée je n'ai malheureusement pas réussi à réserver une table. L'idée sera de découvrir l'exposition ainsi que les artistes (dj) avec possibilité de prendre des verres au Barocco restaurant du Musée. \nRendez-vous ici pour plus d'infos :\n\nhttp://institutions.ville-geneve.ch/fr/mah/expositions-evenements/evenements/afterworks/?fbclid=IwAR2B8FLtMw61-GyyypS7hDRT2AaBu2OpSSZA-odWozw3-TegNQ7bOBCVNO4\n\nJe vous dis à jeudi ✌️\n##########\nChers Alumni de Genève, il est temps de planifier le premier afterwork de cette rentrée 2022 !\nPour cela nous vous donnons rendez-vous le jeudi 6 octobre // CODE QUANTUM au Musée d'Art et d'Histoire de Genève, pour l'occasion nous voyagerons dans le temps !\n\nMerci de bien nous tenir au courant si vous venez pour estimer le nombre de personnes.\nMélina  sur Whatsapp +33 6 66 83 03 71\n\nToutes les infos sur le détail des afterworks organises par le MAH sont ici : http://institutions.ville-geneve.ch/fr/mah/expositions-evenements/evenements/afterworks/\n\nA bientôt\n 
BEGIN:VALARM
ACTION:DISPLAY
TRIGGER:-PT60M
DESCRIPTION:AFTERWORK / Drinks de rentrée au Musée d'Art et d'Histoire de Genève
END:VALARM
END:VEVENT
END:VCALENDAR