BEGIN:VCALENDAR
VERSION:2.0
X-WR-TIMEZONE:Europe/Paris
PRODID:-//Audencia//NONSGML v1.0//EN
CALSCALE:GREGORIAN
BEGIN:VEVENT
SUMMARY:Soirée Réseau Grandes Ecoles Montpellier-Occitanie
DTSTART:20220913T183000
DTEND:20220913T230000
UID:319
DTSTAMP:20260425T210007
LOCATION:14 rue Descente en Barrat, 34000 Montpellier
DESCRIPTION:Chers Diplômés, acteurs économiques du tissu Montpelliérain et de sa région,  \n\nNous avons le plaisir de vous inviter au prochain évènement inter-Grandes Écoles dédié à la thématique de l' "Engagement et la quête de sens", le mardi 13 septembre à la Maison des Relations Internationales, 14 rue Descente en Barrat (au bout de l'esplanade Charles-de-Gaulle), Montpellier.\nNous aurons le plaisir de recevoir les intervenants suivants :\n\n	Christelle Nimeskern, de la Fondation de France Méditerranée, qui évoquera le Mécénat de compétence et l'engagement personnel.\n	Yoann Dumontet qui présentera son expérience de bénévolat associatif et de création d'association à but non lucratif avec une dimension transnationale\n	Simon Cossus, Directeur d'Enercoop LR, fournisseur d’énergie 100% renouvelable, qui nous parlera de son cheminement professionnel pour remettre l'économie au service de l'homme et réinventer le service public.  \n\n\nComme à l'accoutumée, la soirée s'accompagnera d'un cocktail dînatoire afin que chacun puisse élargir son réseau professionnel en rencontrant des diplômés faisant partie de l’écosystème régional.  \nTarif/pers : 16€\nClôture des inscriptions la veille ou à épuisement des places disponibles  \n \nDéroulé de la soirée : 18h30 – 19h00\n\nAccueil des participants\n19h00 Conférence "Engagement et quête de sens"\nSuivi d'un cocktail dînatoire\n\nPour vous inscrire : https://www.billetweb.fr/soiree-reseau-grandes-ecoles-mtp-occ5
BEGIN:VALARM
ACTION:DISPLAY
TRIGGER:-PT60M
DESCRIPTION:Soirée Réseau Grandes Ecoles Montpellier-Occitanie
END:VALARM
END:VEVENT
END:VCALENDAR