BEGIN:VCALENDAR
VERSION:2.0
X-WR-TIMEZONE:Europe/Paris
PRODID:-//Audencia//NONSGML v1.0//EN
CALSCALE:GREGORIAN
BEGIN:VEVENT
SUMMARY:Afterwork Audencia Alumni Barcelona
DTSTART:20220810T190000
DTEND:20220810T220000
UID:318
DTSTAMP:20260425T211045
LOCATION:Barcelona
DESCRIPTION:Save the date!\n\nQuedemos para tomar unas copas...
BEGIN:VALARM
ACTION:DISPLAY
TRIGGER:-PT60M
DESCRIPTION:Afterwork Audencia Alumni Barcelona
END:VALARM
END:VEVENT
END:VCALENDAR