BEGIN:VCALENDAR
VERSION:2.0
X-WR-TIMEZONE:Europe/Paris
PRODID:-//Audencia//NONSGML v1.0//EN
CALSCALE:GREGORIAN
BEGIN:VEVENT
SUMMARY:Café Transition #2 : le rendez-vous des alumnis en transition pro
DTSTART:20220704T130000
DTEND:20220704T140000
UID:317
DTSTAMP:20260425T205901
LOCATION:
DESCRIPTION: \n\n	Vous êtes actuellement en phase de transition professionnelle ou de reconversion ?\n	Vous envisagez d'entamer une transition pro mais vous ne savez pas par où commencer ?\n\n\nLe Club Audencia Transitions vous invite à participer au prochain "Café Transitions",  un rendez-vous d'échange convivial, en toute confidentialité, entre alumnis qui traversent eux aussi une étape de réflexion sur leur parcours professionnnel.\n\nVenez partager votre expérience et faire connaissance avec d'autres membres du réseau qui se posent les mêmes questions que vous !\n\n \n\n\n\n\nLien de connexion au Google Meet : \nAudencia - Café Transition\nLundi, 4 juillet · 1:00 à 2:00pm\nInformations de connexion Google Meet\nLien de l'appel vidéo : https://meet.google.com/tno-dcfj-zua
BEGIN:VALARM
ACTION:DISPLAY
TRIGGER:-PT60M
DESCRIPTION:Café Transition #2 : le rendez-vous des alumnis en transition pro
END:VALARM
END:VEVENT
END:VCALENDAR