BEGIN:VCALENDAR
VERSION:2.0
X-WR-TIMEZONE:Europe/Paris
PRODID:-//Audencia//NONSGML v1.0//EN
CALSCALE:GREGORIAN
BEGIN:VEVENT
SUMMARY:Afterwork Audencia Transitions à Nantes
DTSTART:20220616T183000
DTEND:20220616T235900
UID:316
DTSTAMP:20260425T210023
LOCATION:Bar l'Aristide à Nantes
DESCRIPTION:Ça fait longtemps qu’on ne s’est pas vu.e.s ! ??\n\nRetrouvons-nous à Paris ou à Nantes le 16 juin !  \nCe sera l’occasion de passer un bon moment ensemble, de faire connaissance avec celles et ceux qui nous ont rejoint récemment, de parler de nos projets respectifs et de ceux du club et bien sûr de refaire le monde !\n\nLes Nantais, on se donne rdv chez Aristide, idéalement en terrasse, à partir de 18h30\n\nLiens dans la bio pour s’inscrire (ce n’est pas obligatoire mais ça nous aide à anticiper le nombre de participant.e.s ?)\n\nA la semaine prochaine ! 
BEGIN:VALARM
ACTION:DISPLAY
TRIGGER:-PT60M
DESCRIPTION:Afterwork Audencia Transitions à Nantes
END:VALARM
END:VEVENT
END:VCALENDAR