BEGIN:VCALENDAR
VERSION:2.0
X-WR-TIMEZONE:Europe/Paris
PRODID:-//Audencia//NONSGML v1.0//EN
CALSCALE:GREGORIAN
BEGIN:VEVENT
SUMMARY:Afterwork Audencia Transitions à Paris
DTSTART:20220616T190000
DTEND:20220616T235500
UID:315
DTSTAMP:20260425T210006
LOCATION:Académie du Climat
DESCRIPTION:Ça fait longtemps qu’on ne s’est pas vu.e.s ! ??\n\nRetrouvons-nous à Paris ou à Nantes le 16 juin !  \nCe sera l’occasion de passer un bon moment ensemble, de faire connaissance avec celles et ceux qui nous ont rejoint récemment, de parler de nos projets respectifs et de ceux du club et bien sûr de refaire le monde !\n\nLes Parisien.ne.s, on se retrouve à l’Académie du Climat à partir de 19h\n\nN'hésitez pas à vous inscrire (ce n’est pas obligatoire mais ça nous aide à anticiper le nombre de participant.e.s ?)\n\nA la semaine prochaine ! 
BEGIN:VALARM
ACTION:DISPLAY
TRIGGER:-PT60M
DESCRIPTION:Afterwork Audencia Transitions à Paris
END:VALARM
END:VEVENT
END:VCALENDAR