BEGIN:VCALENDAR
VERSION:2.0
X-WR-TIMEZONE:Europe/Paris
PRODID:-//Audencia//NONSGML v1.0//EN
CALSCALE:GREGORIAN
BEGIN:VEVENT
SUMMARY:Summer Party Alumni Audencia & Grenoble Ecole Management
DTSTART:20220629T190000
DTEND:20220629T230000
UID:314
DTSTAMP:20260425T205847
LOCATION:Rue Henri-Blanvalet 13, 1207 Genève
DESCRIPTION:⏰? Mercredi 29 Juin à partir de 19h00 \n\n??? Geneve Eaux-Vives chez "Yvette de Marseille" \n\nhttps://maps.app.goo.gl/nET6kVayqcmoDhmx9\n\n??? Speed Dating à partir de 19h30 et soirée ?? dès 20h30 !\n\nINSCRIPTIONS obligatoires sur le lien ci-dessous :\nhttps://cally.com/pjx6yipxcubn2i5m\n\n 
BEGIN:VALARM
ACTION:DISPLAY
TRIGGER:-PT60M
DESCRIPTION:Summer Party Alumni Audencia & Grenoble Ecole Management
END:VALARM
END:VEVENT
END:VCALENDAR