BEGIN:VCALENDAR
VERSION:2.0
X-WR-TIMEZONE:Europe/Paris
PRODID:-//Audencia//NONSGML v1.0//EN
CALSCALE:GREGORIAN
BEGIN:VEVENT
SUMMARY:ChangeNow Summit
DTSTART:20220521T090000
DTEND:20220521T200000
UID:312
DTSTAMP:20260425T205902
LOCATION:Grand Palais Ephemere, Paris
DESCRIPTION:Participez au Change Now Summit et rejoignez les membres du club Transitions présents !\n\nhttps://www.changenow.world/
BEGIN:VALARM
ACTION:DISPLAY
TRIGGER:-PT60M
DESCRIPTION:ChangeNow Summit
END:VALARM
END:VEVENT
END:VCALENDAR