BEGIN:VCALENDAR
VERSION:2.0
X-WR-TIMEZONE:Europe/Paris
PRODID:-//Audencia//NONSGML v1.0//EN
CALSCALE:GREGORIAN
BEGIN:VEVENT
SUMMARY:Signez la lettre pour demander du Climat dans le Débat du 2nd tour
DTSTART:20220420T210000
DTEND:20220420T233000
UID:311
DTSTAMP:20260425T210006
LOCATION:
DESCRIPTION:Dans le cadre de l'élection présidentielle, la question climatique n'a pas suffisamment été traitée : seulement 3,6% du temps médiatiques y a été consacrée. \n\nNous allons envoyer un courrier à destination de Léa SALAME et Gilles BOULEAU, leur demandant d'accorder au moins un cinquième du temps de débat de l'entre-deux tours des élections présidentielles sur les questions climatiques. \n\nSi vous voulez vous joindre au projet, signez la lettre ici : https://mailchi.mp/5ce390e2cd64/bse5aaji9n\n\nDate limite de signature : le 20/04 à 18h ! (avant le débat)\n 
BEGIN:VALARM
ACTION:DISPLAY
TRIGGER:-PT60M
DESCRIPTION:Signez la lettre pour demander du Climat dans le Débat du 2nd tour
END:VALARM
END:VEVENT
END:VCALENDAR