BEGIN:VCALENDAR
VERSION:2.0
X-WR-TIMEZONE:Europe/Paris
PRODID:-//Audencia//NONSGML v1.0//EN
CALSCALE:GREGORIAN
BEGIN:VEVENT
SUMMARY:SLOW FASHION TRAINING BY AUDENCIA
DTSTART:20220412T120000
DTEND:20220412T140000
UID:310
DTSTAMP:20260425T205846
LOCATION:
DESCRIPTION:SLOW FASHION TRAINING BY AUDENCIA\n\nVous souhaitez agir en faveur d'une mode plus responsable ? Participez à notre atelier Slow Fashion Training by Audencia !\n\nCe programme, créé par la chaire Impact Positif d'Audencia, vise à sensibiliser chacun.e à la mode responsable. \n\nComment ? En prenant conscience des impacts du secteur, en décryptant les comportements d’achat, et en découvrant des pratiques plus durables.\n\nL'objectif ? Que chacun.e participe à son échelle à l’effort collectif vers une mode raisonnée, et sache diffuser les bonnes informations.\n\nIl s'agit d'un atelier gratuit diffusé en ligne (via Teams), d'une durée de 2 heures.
BEGIN:VALARM
ACTION:DISPLAY
TRIGGER:-PT60M
DESCRIPTION:SLOW FASHION TRAINING BY AUDENCIA
END:VALARM
END:VEVENT
END:VCALENDAR