BEGIN:VCALENDAR
VERSION:2.0
X-WR-TIMEZONE:Europe/Paris
PRODID:-//Audencia//NONSGML v1.0//EN
CALSCALE:GREGORIAN
BEGIN:VEVENT
SUMMARY:L'After' Ambitions Transitions
DTSTART:20220408T190000
DTEND:20220408T235900
UID:308
DTSTAMP:20260425T205821
LOCATION:Buvette de l'Académie du Climat, 2 Place Baudoyer, 75004 Paris
DESCRIPTION:Et si on faisait connaissance autour d'un verre ? ??\n\n \n\nParticiper à l'afterwork Audencia Transitions, c'est l'opportunité :\n\n- de rencontrer des personnes inspirantes qui s'engagent dans leur quotidien\n\n- d'évoquer tes envies d'engagement, de transition pro\n\n- de te ré-énergiser\n\n- de découvrir les projets que le Club Audencia Transitions mène\n\n- et tout simplement de passer un bon moment autour de ?.\n\n \n\nOn se donne rdv à Paris, après le forum Ambitions Transitions à la buvette de l'Académie du Climat au 2 Place Baudoyer (4ème arrondissement).\n\n \n\nA très vite !
BEGIN:VALARM
ACTION:DISPLAY
TRIGGER:-PT60M
DESCRIPTION:L'After' Ambitions Transitions
END:VALARM
END:VEVENT
END:VCALENDAR