BEGIN:VCALENDAR
VERSION:2.0
X-WR-TIMEZONE:Europe/Paris
PRODID:-//Audencia//NONSGML v1.0//EN
CALSCALE:GREGORIAN
BEGIN:VEVENT
SUMMARY:Afterwork Audencia Transitions à Bordeaux
DTSTART:20220331T090000
DTEND:20220401T000000
UID:307
DTSTAMP:20260425T205703
LOCATION:Bar "Au Nouveau Monde",  2 Rue des Boucheries, 33000 Bordeaux
DESCRIPTION:Et si on faisait connaissance autour d'un verre ? ??\n\n \n\nParticiper à l'afterwork Audencia Transitions, c'est l'opportunité :\n\n- de rencontrer des personnes inspirantes qui s'engagent dans leur quotidien\n\n- d'évoquer tes envies d'engagement, de transition pro\n\n- de te ré-énergiser\n\n- de découvrir les projets que le Club Audencia Transitions mène\n\n- et tout simplement de passer un bon moment autour de ?.\n\n \n\nOn se donne rdv à Bodeaux à partir de 19h30 - au bar "Au Nouveau Monde"\n\nA très vite !
BEGIN:VALARM
ACTION:DISPLAY
TRIGGER:-PT60M
DESCRIPTION:Afterwork Audencia Transitions à Bordeaux
END:VALARM
END:VEVENT
END:VCALENDAR