BEGIN:VCALENDAR
VERSION:2.0
X-WR-TIMEZONE:Europe/Paris
PRODID:-//Audencia//NONSGML v1.0//EN
CALSCALE:GREGORIAN
BEGIN:VEVENT
SUMMARY:Soirée Réseau Grandes Ecoles Mtp-Occ
DTSTART:20220405T183000
DTEND:20220405T233000
UID:305
DTSTAMP:20260425T205911
LOCATION:6 Bd Vieussens, Montpellier
DESCRIPTION:Chers Diplômés, acteurs économiques du tissu Montpelliérain et de sa région,\n\n \n\nNous avons le plaisir de vous inviter au prochain évènement inter-Grandes Écoles dédié à la thématique de l'évolution professionnelle et du recrutement, le mardi 5 avril dans les salons du traiteur Parguel, 6 Bd Vieussens, Montpellier.\n\nCet événement sera ouvert par un panorama du marché de l'emploi présenté par l'APEC, suivi d'un forum mettant en relation diplômés et sociétés spécialisées dans les ressources humaines.\n\nNous remercions les différents cabinets de recrutement et sociétés spécialisées qui ont répondu présents pour cette soirée : nous aurons la chance de recevoir l'ensemble des acteurs de référence de la région. Chaque société tiendra un stand sur lequel vous pourrez vous adresser à eux pour échanger, présenter votre profil, etc.\n\nL'intégration des diplômés dans la région étant intimement liée à celle des conjoints, cet événement leur sera exceptionnellement ouvert. Cet événement sera donc réservé aux alumnis actifs, aux alumnis en recherche active de poste et à leurs conjoints.\n\nDiplômés exerçant des fonctions de direction ou spécialisés dans les ressources humaines : cet événement sera aussi l'occasion pour vous de prendre contact avec certains des principaux acteurs du recrutement dans la région, découvrir leurs spécialités, etc.\n\nComme à l'accoutumée, la soirée s'accompagnera d'un cocktail dînatoire afin que chacun puisse élargir son réseau professionnel en rencontrant des diplômés faisant partie de l’écosystème régional.\n\n \n\nTarif/pers : 23€\n\nClôture des inscriptions : J-2 ou épuisement des places disponibles\n\n \n\nDéroulé de la soirée :\n\n18h30 – 19h00\n\nAccueil des participants\n\n19h00 – 19h20\n\nPanorama du marché de l'emploi dans la région réalisé par l'APEC\n\nA partir de 19h20\n\nForum : temps d'échange individuel entre alumnis et sociétés présentes\n\nCocktail dînatoire\n\n \n\nÉcoles présentes : Audencia, Edhec, Emlyon, Escp-Europe, Essec, Gem, Hec, Icn, Insead, Kedge, Mbs, Neoma, Rbs, Sciences-Po Paris, Skema, Tbs\n\nPour vous inscrire, cliquez ICI\n\n \n\nInformations pratiques :\n\n\n	Accès tram et parking (places limitées)\n	Respect des consignes sanitaires\n	Remboursement en cas d’annulation de l’évènement\n
BEGIN:VALARM
ACTION:DISPLAY
TRIGGER:-PT60M
DESCRIPTION:Soirée Réseau Grandes Ecoles Mtp-Occ
END:VALARM
END:VEVENT
END:VCALENDAR