BEGIN:VCALENDAR
VERSION:2.0
X-WR-TIMEZONE:Europe/Paris
PRODID:-//Audencia//NONSGML v1.0//EN
CALSCALE:GREGORIAN
BEGIN:VEVENT
SUMMARY:Afterwork Audencia Transitions à Nantes
DTSTART:20220331T183000
DTEND:20220401T000000
UID:303
DTSTAMP:20260425T205908
LOCATION:Nantes - Le Lieu Unique
DESCRIPTION:Et si on faisait connaissance autour d'un verre ? ??\n\n \n\nParticiper à l'afterwork Audencia Transitions, c'est l'opportunité :\n\n- de rencontrer des personnes inspirantes qui s'engagent dans leur quotidien\n\n- d'évoquer tes envies d'engagement, de transition pro\n\n- de te ré-énergiser\n\n- de découvrir les projets que le Club Audencia Transitions mène\n\n- et tout simplement de passer un bon moment autour de ?.\n\n \n\nOn se donne rdv à Nantes à partir de 18h30 - au Lieu Unique\n\nA très vite !
BEGIN:VALARM
ACTION:DISPLAY
TRIGGER:-PT60M
DESCRIPTION:Afterwork Audencia Transitions à Nantes
END:VALARM
END:VEVENT
END:VCALENDAR