BEGIN:VCALENDAR
VERSION:2.0
X-WR-TIMEZONE:Europe/Paris
PRODID:-//Audencia//NONSGML v1.0//EN
CALSCALE:GREGORIAN
BEGIN:VEVENT
SUMMARY:AMBITIONS TRANSITIONS, le forum inter-écoles des métiers engagés
DTSTART:20220407T120000
DTEND:20220409T200000
UID:301
DTSTAMP:20260425T205847
LOCATION:Académie du Climat
DESCRIPTION:\n\n \n\n? 1 objectif : mettre en relation les étudiant·es et jeunes diplômé.e.s engagé·es, les professionnels en quête de sens, les entreprises de la transition qui recrutent et toutes les organisations à impact positif\n\n? 3 jours : les 7, 8 et 9 avril 2022, le forum Ambitions Transitions se déroulera en ligne (le 7/04) et à l'Académie du Climat - Ville de Paris (les 8 et 9/04)\n\nCe projet un peu fou est né au sein de notre collectif rassemblant des alumni engagés d'écoles de commerce et d'ingénieurs, dont Audencia Club Transitions, EDHEC Alumni en Transition, ESCP Transition Network - ETN, ESSEC Transition Alumni, HEC Transition, RSB for change SKEMA, ESSCA Transitions, Polytechnique, et d'autres qui rejoignent peu à peu la dynamique !\n\n? Que trouvera-t-on dans ce forum ?\n- Des jobs, dans des entreprises partenaires triées sur le volet,(garanties 0 bullshit, 0 greenwashing) et on favorise des structures qui n'ont pas toujours accès à des forums traditionnels d'écoles\n- Des ateliers, échanges, et rencontres pour se construire, se former et s'inspirer\n- Des conférences et des tables rondes pour provoquer la bascule\n- Et d'autres surprises !\n\n? Partagez l'information autour de vous, bloquez la date, et incrivez-vous à cet évènement pour être informé.es de la programmation et de la liste des entreprises présentes au forum dès leur publication !
BEGIN:VALARM
ACTION:DISPLAY
TRIGGER:-PT60M
DESCRIPTION:AMBITIONS TRANSITIONS, le forum inter-écoles des métiers engagés
END:VALARM
END:VEVENT
END:VCALENDAR