BEGIN:VCALENDAR
VERSION:2.0
X-WR-TIMEZONE:Europe/Paris
PRODID:-//Audencia//NONSGML v1.0//EN
CALSCALE:GREGORIAN
BEGIN:VEVENT
SUMMARY:Afterwork Audencia Alumni Barcelona
DTSTART:20220222T193000
DTEND:20220222T210000
UID:300
DTSTAMP:20260425T205953
LOCATION:Sagrades Tannines, Passatge de Simó 20, 08025 Barcelona
DESCRIPTION:Hola a todos!\n \n\nReunamos para un pequeño afterwork entre alumni de Audencia desde las 19:30 en Sagrades Tannines, Passatge de Simó 20. ¡Ven a conocer a otros alumnos que están aquí!\n\n \n\nLouis & Tristan
BEGIN:VALARM
ACTION:DISPLAY
TRIGGER:-PT60M
DESCRIPTION:Afterwork Audencia Alumni Barcelona
END:VALARM
END:VEVENT
END:VCALENDAR