BEGIN:VCALENDAR
VERSION:2.0
X-WR-TIMEZONE:Europe/Paris
PRODID:-//Audencia//NONSGML v1.0//EN
CALSCALE:GREGORIAN
BEGIN:VEVENT
SUMMARY:Afterwork de mars
DTSTART:20170302T193000
DTEND:20170302T213000
UID:3
DTSTAMP:20260425T223651
LOCATION:Le Goubock, 12 Rue Grasset, Nantes
DESCRIPTION:Le Chapter Nantes a le plaisir de vous proposer un afterwork convivial le 2 Mars dès 19h30 !\nNous nous retrouverons au Goubock, au 12 rue Gresset, à Nantes (angle rue des Cadeniers), dans la salle du fonds du restaurant, privatisée pour l'occasion.\n\n\nhttps://www.google.fr/maps/@47.2110445,-1.564353,18z\nProfitez de cette soirée pour networker autour d'un verre, partager vos expériences et projets, échanger avec les diplômés investis dans l'animation du Réseau Nantais, ... \n\nAu plaisir de vous y retrouver nombreux !\n\nInscription recommandée pour des raisons d'organisation
BEGIN:VALARM
ACTION:DISPLAY
TRIGGER:-PT60M
DESCRIPTION:Afterwork de mars
END:VALARM
END:VEVENT
END:VCALENDAR