BEGIN:VCALENDAR
VERSION:2.0
X-WR-TIMEZONE:Europe/Paris
PRODID:-//Audencia//NONSGML v1.0//EN
CALSCALE:GREGORIAN
BEGIN:VEVENT
SUMMARY:Audencia Transitions marche pour le climat !
DTSTART:20220312T130000
DTEND:20220312T180000
UID:299
DTSTAMP:20260425T205720
LOCATION:13h45 sur la place Mireille-Havet à la sortie du métro Faidherbe-Chaligny
DESCRIPTION:12 MARS 2022 · #MarcheLookUp\n✊  https://marcheclimat.fr/12mars/\n\nA deux mois de l’élection présidentielle, l’urgence climatique et sociale est passée sous silence par les candidat·es et les médias. Alors que nos vies sont en jeu, ils préfèrent fermer leurs yeux.\n\nNous pouvons agir. Rappelons l’ordre des priorités et faisons de 2022 l’année où la France a enfin pris le chemin d’un avenir juste et soutenable pour toutes et tous. Nous n’attendrons pas 5 ans de plus.\n\nUn récent sondage publié par IPSOS nous apprend que le dérèglement climatique représenterait aujourd’hui un «enjeu capital» pour 94 % des Français interrogés. Pour 47 % d’entre eux, il serait prioritaire. Alors, où est ce sujet dans les débats de l’élection présidentielle ? Où sont les propositions concrètes pour accélérer enfin les transitions de l’agriculture, des transports, de l’énergie ? \n\nLe 12 mars, Audencia Transitions se réunit à Paris pour que le climat retrouve sa juste place dans les débats, à la hauteur de l’urgence d’agir qui s’impose, dont les citoyens, eux, sont conscients.\n\nRejoignez-nous ou participez à une marche près de chez vous. \n\n \n\nLe départ de la marche à lieu à 14h - Place de la Nation.\n\nOn se donne rendez-vous à 13h45 sur la place Mireille-Havet à la sortie du métro Faidherbe-Chaligny.\n\n \n\n\n\n 
BEGIN:VALARM
ACTION:DISPLAY
TRIGGER:-PT60M
DESCRIPTION:Audencia Transitions marche pour le climat !
END:VALARM
END:VEVENT
END:VCALENDAR