BEGIN:VCALENDAR
VERSION:2.0
X-WR-TIMEZONE:Europe/Paris
PRODID:-//Audencia//NONSGML v1.0//EN
CALSCALE:GREGORIAN
BEGIN:VEVENT
SUMMARY:Réunion d'informations - Actualités & projets du Club
DTSTART:20220215T190000
DTEND:20220215T200000
UID:298
DTSTAMP:20260425T210011
LOCATION:
DESCRIPTION:Le Club Audencia Transitions vous donne rendez-vous pour sa réunion d'information trimestrielle.\n\n\n	Vous voulez découvrir le Club Audencia Transitions et ses missions ?\n	Vous vous intéressez aux projets en cours à destination des alumnis et des étudiants du Groupe Audencia ?\n	Vous avez envie de rejoindre le Club et de vous impliquer dans l'une de ses actions ?\n	Vous avez une idée de projet à proposer au club ?\n\n\nSi vous avez répondu oui à au moins l'une des questions ci-dessous, n'hésitez plus et retrouvez-nous le mardi 15 février 2022 à 19h pour une heure d'échange animé par le bureau du club.\n\nLien Meet de la réunion : https://meet.google.com/bed-fxsg-tfs\n \n\nA très vite ?\n\n\n\n 
BEGIN:VALARM
ACTION:DISPLAY
TRIGGER:-PT60M
DESCRIPTION:Réunion d'informations - Actualités & projets du Club
END:VALARM
END:VEVENT
END:VCALENDAR