BEGIN:VCALENDAR
VERSION:2.0
X-WR-TIMEZONE:Europe/Paris
PRODID:-//Audencia//NONSGML v1.0//EN
CALSCALE:GREGORIAN
BEGIN:VEVENT
SUMMARY:Café Transition : le rendez-vous des alumnis en transition pro
DTSTART:20220314T190000
DTEND:20220314T200000
UID:297
DTSTAMP:20260425T210149
LOCATION:
DESCRIPTION:\n	Vous êtes actuellement en phase de transition professionnelle ou de reconversion ?\n	Vous envisagez d'entamer une transition pro mais vous ne savez pas par où commencer ?\n\n\nLe Club Audencia Transitions vous invite à participer au prochain "Café Transitions",  un rendez-vous d'échange convivial, en toute confidentialité, entre alumnis qui traversent eux aussi une étape de réflexion sur leur parcours professionnnel.\n\nVenez partager votre expérience et faire connaissance avec d'autres membres du réseau qui se posent les mêmes questions que vous !\n\n\n\n[Pour cette 1ère édition, l'évènement est limité à 15 PARTICIPANTS.]\n\n \n\nLien de connexion au Google Meet : \n\nAudencia - Café Transition\nMonday, 14 March · 19:00 – 20:00\nGoogle Meet joining info\nVideo call link: https://meet.google.com/cho-gjrq-hmi 
BEGIN:VALARM
ACTION:DISPLAY
TRIGGER:-PT60M
DESCRIPTION:Café Transition : le rendez-vous des alumnis en transition pro
END:VALARM
END:VEVENT
END:VCALENDAR